BEGIN:VCALENDAR
VERSION:2.0
PRODID:-//Florida Chapter of the American Association of Blacks in Energy - ECPv6.15.14//NONSGML v1.0//EN
CALSCALE:GREGORIAN
METHOD:PUBLISH
X-WR-CALNAME:Florida Chapter of the American Association of Blacks in Energy
X-ORIGINAL-URL:https://aabefl.org
X-WR-CALDESC:Events for Florida Chapter of the American Association of Blacks in Energy
REFRESH-INTERVAL;VALUE=DURATION:PT1H
X-Robots-Tag:noindex
X-PUBLISHED-TTL:PT1H
BEGIN:VTIMEZONE
TZID:America/New_York
BEGIN:DAYLIGHT
TZOFFSETFROM:-0500
TZOFFSETTO:-0400
TZNAME:EDT
DTSTART:20230312T070000
END:DAYLIGHT
BEGIN:STANDARD
TZOFFSETFROM:-0400
TZOFFSETTO:-0500
TZNAME:EST
DTSTART:20231105T060000
END:STANDARD
BEGIN:DAYLIGHT
TZOFFSETFROM:-0500
TZOFFSETTO:-0400
TZNAME:EDT
DTSTART:20240310T070000
END:DAYLIGHT
BEGIN:STANDARD
TZOFFSETFROM:-0400
TZOFFSETTO:-0500
TZNAME:EST
DTSTART:20241103T060000
END:STANDARD
BEGIN:DAYLIGHT
TZOFFSETFROM:-0500
TZOFFSETTO:-0400
TZNAME:EDT
DTSTART:20250309T070000
END:DAYLIGHT
BEGIN:STANDARD
TZOFFSETFROM:-0400
TZOFFSETTO:-0500
TZNAME:EST
DTSTART:20251102T060000
END:STANDARD
END:VTIMEZONE
BEGIN:VEVENT
DTSTART;TZID=America/New_York:20241214T070000
DTEND;TZID=America/New_York:20241214T170000
DTSTAMP:20260421T210301
CREATED:20241025T181623Z
LAST-MODIFIED:20241025T181623Z
UID:9967-1734159600-1734195600@aabefl.org
SUMMARY:2024 AABE Scholarship Golf Classic
DESCRIPTION:American Association of Blacks in Energy – Florida Chapter\n2024 Golf Scholarship Tournament\nThe goal of this event is to enjoy some tee time with companies and individuals who share our passion for helping minority students pursuing degrees in science\, technology\, engineering\, mathematics\, and business. By becoming a sponsor of this tournament\, you will not only receive the benefits of the sponsorship which directly support student scholarships; you will also have the opportunity spend the day with us on the green.
URL:https://aabefl.org/event/2024-aabe-scholarship-golf-classic/
LOCATION:Shingle Creek Golf Club\, 9930 Universal Blvd\, Orlando\, FL\, 32819\, United States
END:VEVENT
END:VCALENDAR