BEGIN:VCALENDAR
VERSION:2.0
PRODID:-//Florida Chapter of the American Association of Blacks in Energy - ECPv6.15.14//NONSGML v1.0//EN
CALSCALE:GREGORIAN
METHOD:PUBLISH
X-ORIGINAL-URL:https://aabefl.org
X-WR-CALDESC:Events for Florida Chapter of the American Association of Blacks in Energy
REFRESH-INTERVAL;VALUE=DURATION:PT1H
X-Robots-Tag:noindex
X-PUBLISHED-TTL:PT1H
BEGIN:VTIMEZONE
TZID:America/New_York
BEGIN:DAYLIGHT
TZOFFSETFROM:-0500
TZOFFSETTO:-0400
TZNAME:EDT
DTSTART:20240310T070000
END:DAYLIGHT
BEGIN:STANDARD
TZOFFSETFROM:-0400
TZOFFSETTO:-0500
TZNAME:EST
DTSTART:20241103T060000
END:STANDARD
BEGIN:DAYLIGHT
TZOFFSETFROM:-0500
TZOFFSETTO:-0400
TZNAME:EDT
DTSTART:20250309T070000
END:DAYLIGHT
BEGIN:STANDARD
TZOFFSETFROM:-0400
TZOFFSETTO:-0500
TZNAME:EST
DTSTART:20251102T060000
END:STANDARD
BEGIN:DAYLIGHT
TZOFFSETFROM:-0500
TZOFFSETTO:-0400
TZNAME:EDT
DTSTART:20260308T070000
END:DAYLIGHT
BEGIN:STANDARD
TZOFFSETFROM:-0400
TZOFFSETTO:-0500
TZNAME:EST
DTSTART:20261101T060000
END:STANDARD
BEGIN:DAYLIGHT
TZOFFSETFROM:-0500
TZOFFSETTO:-0400
TZNAME:EDT
DTSTART:20270314T070000
END:DAYLIGHT
BEGIN:STANDARD
TZOFFSETFROM:-0400
TZOFFSETTO:-0500
TZNAME:EST
DTSTART:20271107T060000
END:STANDARD
END:VTIMEZONE
BEGIN:VEVENT
DTSTART;VALUE=DATE:20250613
DTEND;VALUE=DATE:20250614
DTSTAMP:20260421T210806
CREATED:20250206T154743Z
LAST-MODIFIED:20250206T154743Z
UID:10008-1749772800-1749859199@aabefl.org
SUMMARY:2nd Quarter General Membership Meeting
DESCRIPTION:
URL:https://aabefl.org/event/2nd-quarter-general-membership-meeting/
LOCATION:Juno Beach\, FL\, Juno Beach\, FL\, United States
END:VEVENT
BEGIN:VEVENT
DTSTART;VALUE=DATE:20250623
DTEND;VALUE=DATE:20250629
DTSTAMP:20260421T210806
CREATED:20250618T183326Z
LAST-MODIFIED:20250618T183326Z
UID:10086-1750636800-1751155199@aabefl.org
SUMMARY:2025 AABE Week
DESCRIPTION:🖤 AABE Week 2025 – Event Schedule\nJoin us June 23–28\, 2025 for a week of connection\, celebration\, and community as we honor AABE Week with a variety of exciting events across Jacksonville\, Florida! \n\nMonday\, June 23\nGrown & Grateful Wind Down📍 Havana Cigar Bar & Hookah Lounge5220 Normandy Blvd\, Jacksonville\, FL🕠 5:30 PM – 8:30 PM🎟️ Use the QR code on the flyer to purchase tickets. \n\nTuesday\, June 24\nVirtual 5K Kick-Off & Social Media Check-In🏃‍♂️ Get moving and check in on social!📱 Share your AABE Week energy by tagging us in your posts and stories. \n\nWednesday\, June 25\nFamily & Friends Fun Night📍 Dave & Buster’s7025 Salisbury Road\, Jacksonville\, FL🕕 6:00 PM – 8:30 PM \n\nThursday\, June 26\nAABE Day at JEA👕 Don’t forget to wear your AABE shirts! \n\nFriday\, June 27\nFun Night with MFK📍 FSCJ Downtown CampusJacksonville\, FL🕕 6:00 PM – 8:00 PM \n\nSaturday\, June 28\nAABE Members – 5K Meet-Up📍 Friendship Fountain🕣 8:30 AM🎟️ Use the QR code on the flyer to register. \nLunch Meet-Up📍 Spliff’s Gastropub100 E Forsyth St\, Jacksonville\, FL🕦 11:30 AM – 1:00 PM
URL:https://aabefl.org/event/2025-aabe-week/
ATTACH;FMTTYPE=application/pdf:https://aabefl.org/wp-content/uploads/2025/06/AABE-Week-2025-All-Events-Flyer.pdf
END:VEVENT
BEGIN:VEVENT
DTSTART;TZID=America/New_York:20250624T183000
DTEND;TZID=America/New_York:20250624T213000
DTSTAMP:20260421T210806
CREATED:20250618T183003Z
LAST-MODIFIED:20250618T183003Z
UID:10082-1750789800-1750800600@aabefl.org
SUMMARY:AABE Spirit Night
DESCRIPTION:
URL:https://aabefl.org/event/aabe-spirit-night/
LOCATION:Dave & Busters Jacksonville\, 7025 Salisbury Rd\, Jacksonville\, FL\, 32256\, United States
ATTACH;FMTTYPE=application/pdf:https://aabefl.org/wp-content/uploads/2025/06/AABE-Dave-Busters-Flyer-June-2024.pdf
END:VEVENT
BEGIN:VEVENT
DTSTART;TZID=America/New_York:20250626T173000
DTEND;TZID=America/New_York:20250626T203000
DTSTAMP:20260421T210806
CREATED:20250618T182519Z
LAST-MODIFIED:20250618T182519Z
UID:10078-1750959000-1750969800@aabefl.org
SUMMARY:The Grown and Grateful Wind Down
DESCRIPTION:
URL:https://aabefl.org/event/the-grown-and-grateful-wind-down/
LOCATION:Havana Cigar Bar & Hookah Lounge\, 5220 Normandy Blvd\, Jacksonville\, FL\, United States
ATTACH;FMTTYPE=application/pdf:https://aabefl.org/wp-content/uploads/2025/06/AABE-Grown-Grateful-Wind-Down-Flyer-June-26th.pdf
END:VEVENT
BEGIN:VEVENT
DTSTART;TZID=America/New_York:20250710T080000
DTEND;TZID=America/New_York:20250711T170000
DTSTAMP:20260421T210806
CREATED:20250618T162714Z
LAST-MODIFIED:20250702T185007Z
UID:10053-1752134400-1752253200@aabefl.org
SUMMARY:13th Annual St. Pete Youth Energy Academy
DESCRIPTION:Discover Your Future in Energy!\nJoin us for the upcoming Youth Energy Academy (YEA) — a dynamic 2-day event designed to introduce students to exciting careers in the electric utility and energy industries. Hosted by the Florida Chapter of AABE\, this academy combines hands-on activities with real-world insight to spark interest in STEM and energy fields. Whether you’re curious about engineering\, technology\, or environmental science\, YEA is where your energy journey begins!
URL:https://aabefl.org/event/youth-energy-academy-yea/
LOCATION:Duke Energy Bartow Power Plant\, 1601 Weedon Island Drive\, St. Petersburg\, FL\, 33702\, United States
ATTACH;FMTTYPE=application/pdf:https://aabefl.org/wp-content/uploads/2025/06/St-Pete-Youth-Energy-Academy-Flyer-2025-FINAL-updated.pdf
END:VEVENT
BEGIN:VEVENT
DTSTART;TZID=America/New_York:20250716T080000
DTEND;TZID=America/New_York:20250717T170000
DTSTAMP:20260421T210806
CREATED:20250618T163043Z
LAST-MODIFIED:20250618T163043Z
UID:10058-1752652800-1752771600@aabefl.org
SUMMARY:11th Annual Ocala Youth Energy Academy
DESCRIPTION:
URL:https://aabefl.org/event/11th-annual-ocala-youth-energy-academy/
LOCATION:Lillian Bryant Community Center\, 2200 NW 17th Place\, Ocala\, FL\, 34475\, United States
ATTACH;FMTTYPE=application/pdf:https://aabefl.org/wp-content/uploads/2025/06/Ocala-Youth-Energy-Academy-Flyer-2025-FINAL-updated.pdf
END:VEVENT
BEGIN:VEVENT
DTSTART;TZID=America/New_York:20250724T080000
DTEND;TZID=America/New_York:20250725T170000
DTSTAMP:20260421T210806
CREATED:20250618T163623Z
LAST-MODIFIED:20250618T163623Z
UID:10066-1753344000-1753462800@aabefl.org
SUMMARY:14th Annual Orlando Youth Energy Academy
DESCRIPTION:
URL:https://aabefl.org/event/14th-annual-orlando-youth-energy-academy/
LOCATION:Orlando Utilities Commision\, 3800 Gardenia Ave\, Orlando\, FL\, 32839\, United States
ATTACH;FMTTYPE=application/pdf:https://aabefl.org/wp-content/uploads/2025/06/Orlando-Youth-Energy-Academy-Flyer-2025-FINAL.pdf
END:VEVENT
BEGIN:VEVENT
DTSTART;TZID=America/New_York:20250729T080000
DTEND;TZID=America/New_York:20250729T170000
DTSTAMP:20260421T210806
CREATED:20250618T163410Z
LAST-MODIFIED:20250618T163410Z
UID:10062-1753776000-1753808400@aabefl.org
SUMMARY:3rd Annual Greater Gainesville Youth Energy Academy
DESCRIPTION:
URL:https://aabefl.org/event/3rd-annual-greater-gainesville-youth-energy-academy/
LOCATION:Gainesville Regional Utilities\, 4747 North Main Street\, Gainesville\, FL\, 32609\, United States
ATTACH;FMTTYPE=application/pdf:https://aabefl.org/wp-content/uploads/2025/06/Gainesville-Youth-Energy-Academy-Flyer-2025-FINAL.pdf
END:VEVENT
BEGIN:VEVENT
DTSTART;VALUE=DATE:20250912
DTEND;VALUE=DATE:20250913
DTSTAMP:20260421T210806
CREATED:20250206T154823Z
LAST-MODIFIED:20250206T154823Z
UID:10011-1757635200-1757721599@aabefl.org
SUMMARY:3rd Quarter General Membership Meeting
DESCRIPTION:
URL:https://aabefl.org/event/3rd-quarter-general-membership-meeting/
LOCATION:Zoom
END:VEVENT
BEGIN:VEVENT
DTSTART;VALUE=DATE:20251205
DTEND;VALUE=DATE:20251206
DTSTAMP:20260421T210806
CREATED:20250206T154924Z
LAST-MODIFIED:20250206T154924Z
UID:10013-1764892800-1764979199@aabefl.org
SUMMARY:4th Quarter General Membership Meeting
DESCRIPTION:
URL:https://aabefl.org/event/4th-quarter-general-membership-meeting/
LOCATION:Orlando\, FL\, Orlando\, FL\, United States
END:VEVENT
BEGIN:VEVENT
DTSTART;TZID=America/New_York:20251206T070000
DTEND;TZID=America/New_York:20251206T170000
DTSTAMP:20260421T210806
CREATED:20250905T184156Z
LAST-MODIFIED:20250905T184156Z
UID:10187-1765004400-1765040400@aabefl.org
SUMMARY:AABE FL - 2025 SCHOLARSHIP GOLF CLASSIC
DESCRIPTION:The 19th Annual AABE Florida Scholarship Golf Tournament is our fundraiser benefiting under-represented students pursuing degrees in Science\, Technology\, Engineering\, Mathematics and Business.
URL:https://aabefl.org/event/aabe-fl-2025-scholarship-golf-classic/
LOCATION:Eagle Creek Golf Course\, 10350 Emerson Lake Blvd\, Orlando\, FL\, 32832\, United States
END:VEVENT
BEGIN:VEVENT
DTSTART;VALUE=DATE:20260306
DTEND;VALUE=DATE:20260307
DTSTAMP:20260421T210806
CREATED:20260308T182942Z
LAST-MODIFIED:20260308T182942Z
UID:10313-1772755200-1772841599@aabefl.org
SUMMARY:AABE General Membership Meeting - Virtual Meeting
DESCRIPTION:
URL:https://aabefl.org/event/aabe-general-membership-meeting-virtual-meeting/
END:VEVENT
BEGIN:VEVENT
DTSTART;VALUE=DATE:20260412
DTEND;VALUE=DATE:20260416
DTSTAMP:20260421T210806
CREATED:20250905T155224Z
LAST-MODIFIED:20250905T155224Z
UID:10153-1775952000-1776297599@aabefl.org
SUMMARY:49th AABE National Conference
DESCRIPTION:We are excited to share an important update regarding the 49th AABE National Conference in New Orleans\, Louisiana. \nUpdated Conference Dates: Please note that the conference will now take place from Sunday\, April 12th through Wednesday\, April 15th\, 2026. This is a slight adjustment from the previously announced dates of April 13–17\, 2026. \nWhat Remains the Same: \nThe purpose\, intent\, and core components of AABE remain intact: Policy Leadership\, Community Engagement\, and Career & Professional Development.\nThe experience will continue to focus on education\, professional growth\, networking\, and enrichment—hallmarks of the AABE Experience.\nThe conference cost remains unchanged.\nWhat to Expect: Join us for a comprehensive\, power-packed AABE experience that highlights national energy issues and celebrates resilience and innovation in the face of challenges. \nThe AABE Board of Directors\, National Headquarters Staff\, Regional Directors\, and Local Leadership are eagerly looking forward to welcoming each of you to New Orleans this spring. \nHelp Us Spread the Excitement! Please share the news with your colleagues and networks as we prepare for an unforgettable gathering of energy professionals and leaders. \nThank you for your continued support and commitment to AABE’s mission. We can’t wait to see you in New Orleans! \nSincerely\, \nAABE Conference Administrator \nconfadmin@aabe.org
URL:https://aabefl.org/event/49th-aabe-national-conference/
LOCATION:Hyatt Regency New Orleans\, 601 Loyola Ave\, New Orleans\, LA\, 70113\, United States
ATTACH;FMTTYPE=image/png:https://aabefl.org/wp-content/uploads/2025/09/49th_Annual_Meeting_Banner.png
ORGANIZER;CN="AABE":MAILTO:confadmin@aabe.org
END:VEVENT
BEGIN:VEVENT
DTSTART;VALUE=DATE:20260612
DTEND;VALUE=DATE:20260613
DTSTAMP:20260421T210806
CREATED:20260308T183028Z
LAST-MODIFIED:20260308T183028Z
UID:10315-1781222400-1781308799@aabefl.org
SUMMARY:AABE General Membership Meeting - Sumterville\, Florida
DESCRIPTION:
URL:https://aabefl.org/event/aabe-general-membership-meeting-sumterville-florida/
END:VEVENT
BEGIN:VEVENT
DTSTART;VALUE=DATE:20260911
DTEND;VALUE=DATE:20260912
DTSTAMP:20260421T210806
CREATED:20260308T183103Z
LAST-MODIFIED:20260308T183103Z
UID:10317-1789084800-1789171199@aabefl.org
SUMMARY:AABE General Membership Meeting - Virtual
DESCRIPTION:
URL:https://aabefl.org/event/aabe-general-membership-meeting-virtual/
END:VEVENT
BEGIN:VEVENT
DTSTART;VALUE=DATE:20261205
DTEND;VALUE=DATE:20261206
DTSTAMP:20260421T210806
CREATED:20260308T183154Z
LAST-MODIFIED:20260308T183154Z
UID:10319-1796428800-1796515199@aabefl.org
SUMMARY:AABE General Membership Meeting - Orlando\, Florida
DESCRIPTION:
URL:https://aabefl.org/event/aabe-general-membership-meeting-orlando-florida/
END:VEVENT
END:VCALENDAR